BEGIN:VCALENDAR
VERSION:2.0
PRODID:-//Ya&#039;sta Club - ECPv6.15.20//NONSGML v1.0//EN
CALSCALE:GREGORIAN
METHOD:PUBLISH
X-ORIGINAL-URL:https://yastaclub.es
X-WR-CALDESC:Eventos para Ya&#039;sta Club
REFRESH-INTERVAL;VALUE=DURATION:PT1H
X-Robots-Tag:noindex
X-PUBLISHED-TTL:PT1H
BEGIN:VTIMEZONE
TZID:Europe/Madrid
BEGIN:DAYLIGHT
TZOFFSETFROM:+0100
TZOFFSETTO:+0200
TZNAME:CEST
DTSTART:20230326T010000
END:DAYLIGHT
BEGIN:STANDARD
TZOFFSETFROM:+0200
TZOFFSETTO:+0100
TZNAME:CET
DTSTART:20231029T010000
END:STANDARD
BEGIN:DAYLIGHT
TZOFFSETFROM:+0100
TZOFFSETTO:+0200
TZNAME:CEST
DTSTART:20240331T010000
END:DAYLIGHT
BEGIN:STANDARD
TZOFFSETFROM:+0200
TZOFFSETTO:+0100
TZNAME:CET
DTSTART:20241027T010000
END:STANDARD
BEGIN:DAYLIGHT
TZOFFSETFROM:+0100
TZOFFSETTO:+0200
TZNAME:CEST
DTSTART:20250330T010000
END:DAYLIGHT
BEGIN:STANDARD
TZOFFSETFROM:+0200
TZOFFSETTO:+0100
TZNAME:CET
DTSTART:20251026T010000
END:STANDARD
END:VTIMEZONE
BEGIN:VEVENT
DTSTART;TZID=Europe/Madrid:20240920T210000
DTEND;TZID=Europe/Madrid:20240920T230000
DTSTAMP:20260420T042655
CREATED:20240531T210211Z
LAST-MODIFIED:20240531T210211Z
UID:10000802-1726866000-1726873200@yastaclub.es
SUMMARY:TRIBUTO DISNEY CHANNEL
DESCRIPTION:¡Hannah Montana\, Camp Rock\, High School Musical\, Lizzie Mcguire y muchos más en Ya´sta Club!\nImagina todas las canciones que marcaron a una generación en este tributo homenaje a la adolescencia de muchos y a la niñez de otros. En esta experiencia inmersiva podrás cantar\, bailar y participar en juegos que te harán sentir un artista más del espectáculo. Te podrás convertir en un Wildcat\, en una Cheetah Girl e incluso pertenecer a la banda de las Divinas.\nLa Opción Producciones te presenta un nuevo espectáculo musical e inmersivo a través de un viaje en el tiempo a las mejores series y películas que marcaron a toda una generación. \n**Según normativa de sala solo podrán acceder personas mayores de 16 años pueden acceder siempre presentando DNI\, en caso de no llevar DNI podrá ser rechazada su entrada. Menores de 16 años podrán acceder acompañados de padre\, madre o tutor legal y aportando DNI  de ambos que acredite la situación o documento legal.**
URL:https://yastaclub.es/event/tributo-disney-channel/
LOCATION:Ya’sta Club\, Calle Valverde\, 10\, Madrid\, 28004\, España
ATTACH;FMTTYPE=image/png:https://yastaclub.es/wp-content/uploads/2024/03/202402151708021668-disney-channel-en-concierto-principal.png
END:VEVENT
BEGIN:VEVENT
DTSTART;TZID=Europe/Madrid:20240920T235900
DTEND;TZID=Europe/Madrid:20240921T060000
DTSTAMP:20260420T042655
CREATED:20240730T122454Z
LAST-MODIFIED:20240830T173521Z
UID:10000807-1726876740-1726898400@yastaclub.es
SUMMARY:ROAR Party - Edición Emilia - Reentré
DESCRIPTION:Entradas anticipadas aquí \nEl próximo 20 de septiembre VOLVEMOS a lo grande en esta Reentré dedicada a EMILIA 🇦🇷\, ¡con caras ya conocidas y alguna que otra nueva! \nEsto va a ser TODO 🫶👠\n👠 @cloverbishhh (Clover Bish)\n💕 @gaylicia_ (Gaylicia)\n👠 @labrenda.star (Brenda Star)\n💕 @barbara.strong_ (Bárbara Strong)\n👠 @johannaexxo (Johanna Exxo) \nPOP • REGGAETON • HITS\n🎧 @xabiraindj / @somoselnido / @jaime_rsc \n🎟 Anticipadas en nuestra web / link en bio . En taquilla 2 copas por 18€ hasta la 01.30\, después 1 por 15€\n📍 @yastaclublgtb \nLa previa\, en nuestros bares de confianza\, ¡consigue tu flyer con oferta en ellos! \n🥂 @barbanarama\n🥂 @liadamadrid\n🥂 @reinapop_\n🥂 @starchueca\n🥂 @el12club \nColabora:\n🥃 @peligrocatrina\, con unos chupitos riquísimos\, os invitamos a probarlos 😜
URL:https://yastaclub.es/event/roar-party-edicion-emilia-reentre/
LOCATION:Ya’sta Club\, Calle Valverde\, 10\, Madrid\, 28004\, España
CATEGORIES:Drag Queen 👠,LGTB 🏳️‍🌈
ATTACH;FMTTYPE=image/jpeg:https://yastaclub.es/wp-content/uploads/2024/07/WhatsApp-Image-2024-08-22-at-16.42.25.jpeg
END:VEVENT
END:VCALENDAR