BEGIN:VCALENDAR
VERSION:2.0
PRODID:-//Ya&#039;sta Club - ECPv6.15.20//NONSGML v1.0//EN
CALSCALE:GREGORIAN
METHOD:PUBLISH
X-ORIGINAL-URL:https://yastaclub.es
X-WR-CALDESC:Eventos para Ya&#039;sta Club
REFRESH-INTERVAL;VALUE=DURATION:PT1H
X-Robots-Tag:noindex
X-PUBLISHED-TTL:PT1H
BEGIN:VTIMEZONE
TZID:Europe/Madrid
BEGIN:DAYLIGHT
TZOFFSETFROM:+0100
TZOFFSETTO:+0200
TZNAME:CEST
DTSTART:20230326T010000
END:DAYLIGHT
BEGIN:STANDARD
TZOFFSETFROM:+0200
TZOFFSETTO:+0100
TZNAME:CET
DTSTART:20231029T010000
END:STANDARD
BEGIN:DAYLIGHT
TZOFFSETFROM:+0100
TZOFFSETTO:+0200
TZNAME:CEST
DTSTART:20240331T010000
END:DAYLIGHT
BEGIN:STANDARD
TZOFFSETFROM:+0200
TZOFFSETTO:+0100
TZNAME:CET
DTSTART:20241027T010000
END:STANDARD
BEGIN:DAYLIGHT
TZOFFSETFROM:+0100
TZOFFSETTO:+0200
TZNAME:CEST
DTSTART:20250330T010000
END:DAYLIGHT
BEGIN:STANDARD
TZOFFSETFROM:+0200
TZOFFSETTO:+0100
TZNAME:CET
DTSTART:20251026T010000
END:STANDARD
END:VTIMEZONE
BEGIN:VEVENT
DTSTART;TZID=Europe/Madrid:20240919T210000
DTEND;TZID=Europe/Madrid:20240920T010000
DTSTAMP:20260420T042655
CREATED:20240911T130242Z
LAST-MODIFIED:20240914T075523Z
UID:10000820-1726779600-1726794000@yastaclub.es
SUMMARY:Swing Madrid Night
DESCRIPTION:Vovemos Los Terceros Jueves de Mes. \nClase Gratuita con la entrada + BAILE SOCIAL \nClase de Baile Gratuita\n21.00 a 22.00h \nSocial / Party\n22.00 a 01.00h \nCon la mejor Música de Swing\, Rock & Roll y Blues Dj Swing Madrid. \nENTRADA. Bailes Social + Consumición. Venta Anticipada. \n7€ / 1 Consumición (Agua\, Refresco o Cerveza.)\n10€ / 1 Copa o 2 Consumiciones (Agua\, Refresco o Cerveza.)\nVenta anticipada por Entradium \n*En Puerta\n12€/ 1 Copa o 2 Consumiciones (Agua\, Refresco o Cerveza.) \nEn Sala Cervezas y Refrescos 3€ y Copas 6€ \n¿Dónde Estamos?\nCalle Valverde 10. Madrid 28004\nMetro. Gran Vía. \nAquí Podrás ver todos Nuestros eventos.\nhttps://blancoynegrostudio.com/calendario-eventos \nBlanco y Negro Studio\nwww.blancoynegrostudio.com\ninfo@blancoynegrostudio.com\nTlf / whatsapp: 687 555 383
URL:https://yastaclub.es/event/swing-madrid-night-5/2024-09-19/
LOCATION:Ya’sta Club\, Calle Valverde\, 10\, Madrid\, 28004\, España
CATEGORIES:Swing
ATTACH;FMTTYPE=image/jpeg:https://yastaclub.es/wp-content/uploads/2024/09/WhatsApp-Image-2024-09-11-at-06.56.45.jpeg
END:VEVENT
END:VCALENDAR