BEGIN:VCALENDAR
VERSION:2.0
PRODID:-//Ya&#039;sta Club - ECPv6.15.20//NONSGML v1.0//EN
CALSCALE:GREGORIAN
METHOD:PUBLISH
X-ORIGINAL-URL:https://yastaclub.es
X-WR-CALDESC:Eventos para Ya&#039;sta Club
REFRESH-INTERVAL;VALUE=DURATION:PT1H
X-Robots-Tag:noindex
X-PUBLISHED-TTL:PT1H
BEGIN:VTIMEZONE
TZID:Europe/Madrid
BEGIN:DAYLIGHT
TZOFFSETFROM:+0100
TZOFFSETTO:+0200
TZNAME:CEST
DTSTART:20230326T010000
END:DAYLIGHT
BEGIN:STANDARD
TZOFFSETFROM:+0200
TZOFFSETTO:+0100
TZNAME:CET
DTSTART:20231029T010000
END:STANDARD
BEGIN:DAYLIGHT
TZOFFSETFROM:+0100
TZOFFSETTO:+0200
TZNAME:CEST
DTSTART:20240331T010000
END:DAYLIGHT
BEGIN:STANDARD
TZOFFSETFROM:+0200
TZOFFSETTO:+0100
TZNAME:CET
DTSTART:20241027T010000
END:STANDARD
BEGIN:DAYLIGHT
TZOFFSETFROM:+0100
TZOFFSETTO:+0200
TZNAME:CEST
DTSTART:20250330T010000
END:DAYLIGHT
BEGIN:STANDARD
TZOFFSETFROM:+0200
TZOFFSETTO:+0100
TZNAME:CET
DTSTART:20251026T010000
END:STANDARD
END:VTIMEZONE
BEGIN:VEVENT
DTSTART;TZID=Europe/Madrid:20240906T210000
DTEND;TZID=Europe/Madrid:20240906T230000
DTSTAMP:20260419T225524
CREATED:20240831T182028Z
LAST-MODIFIED:20250105T182058Z
UID:10000813-1725656400-1725663600@yastaclub.es
SUMMARY:Grease\, El Tributo
DESCRIPTION:¿Y si revives esas románticas Summer Nights? \nAbren la sala Ya’sta Club para trasladarnos al verano en el que Sandy y Danny han pasado un maravilloso verano juntos. Ven y disfruta de Grease\, el tributo con cantantes en directo que te harán vivir una noche de película. \nInformación sobre precios y acceso\nEl espectáculo es en una discoteca. No hay asientos. Todo pista de baile. Según normativa de sala solo podrán acceder personas mayores de 16 años siempre presentando DNI\, en caso de no llevar DNI podrá ser rechazada su entrada. Menores de 16 años podrán acceder acompañados de padre\, madre o tutor legal y aportando DNI de ambos que acredite la situación o documento legal.
URL:https://yastaclub.es/event/grease-el-tributo/2024-09-06/
LOCATION:Ya’sta Club\, Calle Valverde\, 10\, Madrid\, 28004\, España
ATTACH;FMTTYPE=image/webp:https://yastaclub.es/wp-content/uploads/2024/10/grease.webp
END:VEVENT
END:VCALENDAR