BEGIN:VCALENDAR
VERSION:2.0
PRODID:-//Ya&#039;sta Club - ECPv6.15.20//NONSGML v1.0//EN
CALSCALE:GREGORIAN
METHOD:PUBLISH
X-WR-CALNAME:Ya&#039;sta Club
X-ORIGINAL-URL:https://yastaclub.es
X-WR-CALDESC:Eventos para Ya&#039;sta Club
REFRESH-INTERVAL;VALUE=DURATION:PT1H
X-Robots-Tag:noindex
X-PUBLISHED-TTL:PT1H
BEGIN:VTIMEZONE
TZID:Europe/Paris
BEGIN:DAYLIGHT
TZOFFSETFROM:+0100
TZOFFSETTO:+0200
TZNAME:CEST
DTSTART:20220327T010000
END:DAYLIGHT
BEGIN:STANDARD
TZOFFSETFROM:+0200
TZOFFSETTO:+0100
TZNAME:CET
DTSTART:20221030T010000
END:STANDARD
BEGIN:DAYLIGHT
TZOFFSETFROM:+0100
TZOFFSETTO:+0200
TZNAME:CEST
DTSTART:20230326T010000
END:DAYLIGHT
BEGIN:STANDARD
TZOFFSETFROM:+0200
TZOFFSETTO:+0100
TZNAME:CET
DTSTART:20231029T010000
END:STANDARD
BEGIN:DAYLIGHT
TZOFFSETFROM:+0100
TZOFFSETTO:+0200
TZNAME:CEST
DTSTART:20240331T010000
END:DAYLIGHT
BEGIN:STANDARD
TZOFFSETFROM:+0200
TZOFFSETTO:+0100
TZNAME:CET
DTSTART:20241027T010000
END:STANDARD
END:VTIMEZONE
BEGIN:VEVENT
DTSTART;TZID=Europe/Paris:20230915T235500
DTEND;TZID=Europe/Paris:20230916T060000
DTSTAMP:20260419T175554
CREATED:20230720T141427Z
LAST-MODIFIED:20230911T055738Z
UID:10000436-1694822100-1694844000@yastaclub.es
SUMMARY:ROAR Party - Edición Disney (reentré)
DESCRIPTION:¡El próximo 15 de septiembre volvemos con las pilas más cargadas que nunca!\nOs esperamos en una edición DISNEY ÚNICA en la que os daremos shows DRAG abarcando sus princesas más icónicas\, clásicas\, maléficas y un sin fin de personajes. \nDurante TODA la noche\, os daremos\, como siempre\, el mejor 𝙋𝙊𝙋 · 𝙃𝙄𝙏𝙎 · 𝙍𝙀𝙂𝙂𝘼𝙀𝙏𝙊𝙉 que os merecéis. Junto con un ambiente inigualable\, claro. \n\n𝙎𝙃𝙊𝙒𝙎\n Ariel Rec\n Vitácora\n Morfina\n Mikaella B¡tch\n Sorny\n\n𝘿𝙅𝙨\n Prince Noir\n Jaime Caballitos DJ\n El Nido DJ Group\n\nAnticipadas en roarparty.es / yastaclub.es \n\nLa previa\, ¡en nuestros bares de confianza!\nReina Pop Bar\nBarbanarama\n\nAgradecimientos a nuestras amigas:\nStar Chueca\, que están en reforma y volverán pronto \nClub Kids Spain\, por acogernos en su evento DE TARDE
URL:https://yastaclub.es/event/roar-party-edicion-disney-reentre/
LOCATION:Ya’sta Club\, Calle Valverde\, 10\, Madrid\, 28004\, España
CATEGORIES:Drag Queen 👠,LGTB 🏳️‍🌈
ATTACH;FMTTYPE=image/jpeg:https://yastaclub.es/wp-content/uploads/2023/07/WhatsApp-Image-2023-08-14-at-11.06.44.jpeg
END:VEVENT
END:VCALENDAR