BEGIN:VCALENDAR
VERSION:2.0
PRODID:-//Ya&#039;sta Club - ECPv6.15.20//NONSGML v1.0//EN
CALSCALE:GREGORIAN
METHOD:PUBLISH
X-ORIGINAL-URL:https://yastaclub.es
X-WR-CALDESC:Eventos para Ya&#039;sta Club
REFRESH-INTERVAL;VALUE=DURATION:PT1H
X-Robots-Tag:noindex
X-PUBLISHED-TTL:PT1H
BEGIN:VTIMEZONE
TZID:Europe/Paris
BEGIN:DAYLIGHT
TZOFFSETFROM:+0100
TZOFFSETTO:+0200
TZNAME:CEST
DTSTART:20220327T010000
END:DAYLIGHT
BEGIN:STANDARD
TZOFFSETFROM:+0200
TZOFFSETTO:+0100
TZNAME:CET
DTSTART:20221030T010000
END:STANDARD
BEGIN:DAYLIGHT
TZOFFSETFROM:+0100
TZOFFSETTO:+0200
TZNAME:CEST
DTSTART:20230326T010000
END:DAYLIGHT
BEGIN:STANDARD
TZOFFSETFROM:+0200
TZOFFSETTO:+0100
TZNAME:CET
DTSTART:20231029T010000
END:STANDARD
BEGIN:DAYLIGHT
TZOFFSETFROM:+0100
TZOFFSETTO:+0200
TZNAME:CEST
DTSTART:20240331T010000
END:DAYLIGHT
BEGIN:STANDARD
TZOFFSETFROM:+0200
TZOFFSETTO:+0100
TZNAME:CET
DTSTART:20241027T010000
END:STANDARD
END:VTIMEZONE
BEGIN:VEVENT
DTSTART;TZID=Europe/Paris:20230421T235900
DTEND;TZID=Europe/Paris:20230422T060000
DTSTAMP:20260419T225621
CREATED:20230208T093132Z
LAST-MODIFIED:20230414T061642Z
UID:10000370-1682121540-1682143200@yastaclub.es
SUMMARY:SoulStep (DrumNBass)
DESCRIPTION:DNB HEADS\n¿Estáis preparados para nuestra cita de Abril? \nEl próximo viernes 21 de Abril estaremos como cada mes en la Sala Ya’sta a partir de las 23.59h \nEn esta ocasión os hemos querido traer un poquito de Sur de España al centro de la capital y nos visita LADY WIND \nAli Pérez\, más conocida por Lady Wind\, es una DJ de Cádiz afincada en Sevilla que comenzó su carrera en 2016.\nAunque en sus comienzos sus artistas de referencia fueran Goldfrapp\, Prodigy y Massive attack\, siempre ha sentido la llamada del Drum and Bass y géneros underground estando entre sus artistas favoritos Alix Pérez\, Calibre\, Mandidextrous\, Monty y Dimension \n«Ha actuado con artistas como The Prototypes\, Black sun empire\, Benny Page y Culture shock entre otros y en varias ciudades como Arnhem (Luxor live\, Holanda)\, Mallorca\, Zaragoza\, Barcelona\, Toledo\, Granada (industrial copera) y por supuesto Sevilla y Cádiz. \nEn sus sesiones prima la progresividad y toques ácidos\, vocales melódicas y sobretodo mezclas entre rollin y deep drum and bass\, haciendo que su set se mueva entre bajos potentes y percusiones bailongas.» \nEsta noche tenemos el privilegio y el placer de tenerla en la cabina de la Sala Ya’sta.\nEstamos seguros de que su set será inmejorable.\nSi la conoces\, ve sacandole brillo a tus zapatillas de baile y si no la conoces\, echa una escucha a sus sets en el enlace que te dejamos aquí abajo ⬇️⬇️⬇️ \nhttp://technoybass.com/?p=2453 \nComo siempre\, no podían faltar nuestros dos grandes anfitriones: RUBÉN G y NIGHTWALKER\nYa sabéis como se las gastan en cabina\, id cogiendo fondo para nuestra próxima cita. \nEstamos contando los días para que llegue nuestra próxima cita. Nos vemos en nada y menos familia. \nMuchísimo amor para la Drum&Bass Family! \n🗓️Viernes 21 de Abril de 2023\n🕐 23:59h\n📍Sala Ya’sta (Calle Valverde 10)\n🎫 https://entradium.com/events/soulstep-madrid\n.\n1 copa x 10€ (+ gastos de gestión)\n2 copas x 15€ (+ gastos de gestión)\n.\n.\nENTRADA EN PUERTA\n1 copa x 12€\n2 copas x 18€\n.\nINFO y LISTAS para entrada en puerta: 635658446\n.\n#drumandbass #dnb #dnbmusic #drumandbassdj #drumandbassmusic #dnbfamily #neurofunk #jungle #soulful #underground\n#madrid #abril
URL:https://yastaclub.es/event/soulstep-drumnbass-21-04-2023/
LOCATION:Ya’sta Club\, Calle Valverde\, 10\, Madrid\, 28004\, España
CATEGORIES:Drum n Bass
ATTACH;FMTTYPE=image/jpeg:https://yastaclub.es/wp-content/uploads/2023/02/340808651_7875966842420390_4303927033214396722_n.jpg
END:VEVENT
END:VCALENDAR