BEGIN:VCALENDAR
VERSION:2.0
PRODID:-//Ya&#039;sta Club - ECPv6.15.20//NONSGML v1.0//EN
CALSCALE:GREGORIAN
METHOD:PUBLISH
X-ORIGINAL-URL:https://yastaclub.es
X-WR-CALDESC:Eventos para Ya&#039;sta Club
REFRESH-INTERVAL;VALUE=DURATION:PT1H
X-Robots-Tag:noindex
X-PUBLISHED-TTL:PT1H
BEGIN:VTIMEZONE
TZID:Europe/Paris
BEGIN:DAYLIGHT
TZOFFSETFROM:+0100
TZOFFSETTO:+0200
TZNAME:CEST
DTSTART:20220327T010000
END:DAYLIGHT
BEGIN:STANDARD
TZOFFSETFROM:+0200
TZOFFSETTO:+0100
TZNAME:CET
DTSTART:20221030T010000
END:STANDARD
BEGIN:DAYLIGHT
TZOFFSETFROM:+0100
TZOFFSETTO:+0200
TZNAME:CEST
DTSTART:20230326T010000
END:DAYLIGHT
BEGIN:STANDARD
TZOFFSETFROM:+0200
TZOFFSETTO:+0100
TZNAME:CET
DTSTART:20231029T010000
END:STANDARD
BEGIN:DAYLIGHT
TZOFFSETFROM:+0100
TZOFFSETTO:+0200
TZNAME:CEST
DTSTART:20240331T010000
END:DAYLIGHT
BEGIN:STANDARD
TZOFFSETFROM:+0200
TZOFFSETTO:+0100
TZNAME:CET
DTSTART:20241027T010000
END:STANDARD
END:VTIMEZONE
BEGIN:VEVENT
DTSTART;TZID=Europe/Paris:20230420T220000
DTEND;TZID=Europe/Paris:20230421T010000
DTSTAMP:20260419T225523
CREATED:20230419T073618Z
LAST-MODIFIED:20230419T073618Z
UID:10000401-1682028000-1682038800@yastaclub.es
SUMMARY:Swing Madrid Night
DESCRIPTION:Vuelve la primera y mas longevas 2010 – 2023 de la sesiones de Swing de Madrid. \nJueves 20 de Abril de 2023. \nComenzaremos a las 22.00h como siempre con la mejor música de Dj Swing Madrid y su Cóctel de Swing\, Rock & Roll\, Balboa\, Blues…\nSwingplemente la mejor música Swing\, Rock & Roll y otras músicas del montón para no dejar de bailar.\nEntrada Anticipada.\n10€ +0\,59€ de Gastos de Gestión.\nCon 1 Copa / 2 Cervezas o Refrescos.\nEn puerta día del evento 12€. \nTodos nuestros Horarios del curso Regular 2023 toda la información \nHorarios y precios \n \nSíguenos también.\nUn Regalo Diferente ChequeBaile .es\nhttp://www.chequebaile.es \nBlanco y Negro Studio\nwww.blancoynegrostudio.com\ninfo@blancoynegrostudio.com\nTlf / whatsaap: 687 555 383
URL:https://yastaclub.es/event/swing-madrid-night-2/
LOCATION:Ya’sta Club\, Calle Valverde\, 10\, Madrid\, 28004\, España
CATEGORIES:Swing
ATTACH;FMTTYPE=image/jpeg:https://yastaclub.es/wp-content/uploads/2023/04/WhatsApp-Image-2023-04-07-at-23.27.04.jpeg
END:VEVENT
END:VCALENDAR