BEGIN:VCALENDAR
VERSION:2.0
PRODID:-//Ya&#039;sta Club - ECPv6.15.20//NONSGML v1.0//EN
CALSCALE:GREGORIAN
METHOD:PUBLISH
X-WR-CALNAME:Ya&#039;sta Club
X-ORIGINAL-URL:https://yastaclub.es
X-WR-CALDESC:Eventos para Ya&#039;sta Club
REFRESH-INTERVAL;VALUE=DURATION:PT1H
X-Robots-Tag:noindex
X-PUBLISHED-TTL:PT1H
BEGIN:VTIMEZONE
TZID:UTC
BEGIN:STANDARD
TZOFFSETFROM:+0000
TZOFFSETTO:+0000
TZNAME:UTC
DTSTART:20220101T000000
END:STANDARD
END:VTIMEZONE
BEGIN:VEVENT
DTSTART;TZID=UTC:20230224T235900
DTEND;TZID=UTC:20230225T060000
DTSTAMP:20260420T025148
CREATED:20230131T063714Z
LAST-MODIFIED:20230208T095116Z
UID:10000364-1677283140-1677304800@yastaclub.es
SUMMARY:Las Niñas
DESCRIPTION:💚💚💚🤍🤍🤍💚💚💚 \nDijo una voz popular\, ¿Quién me toca las palmitas al laíto del romero\, para quitarnos los clavos que de fuera nos han impuesto? \nEmigrantes andaluces\, levantaos.\nNosotras somos unas más como todes vosotres. Por eso\, llevamos un cachito de nuestra tierra y nuestras tradiciones a la próxima fiesta de Las Niña en Madrid\, que se nos entienda en todo el mundo por nuestro acento. \nClavel\, mantilla\, volantes\, incienso\, aceite y azúcar. Celebremos nuestras raíces\, defendamos juntes nuestra verde\, blanca y verde allá por tierra extraña. \nMadrid\, 24 de Febrero a las 00:00h\nSala Ya’sta. \n💚ENTRADAS EN LA BIO💚 \n🟢Cartel: @viyusgi\n🟢Diseño gráfico: @belial_romerito\n🟢Dirección artística: @ccarvento\n🟢Redes: @josedecarrillo
URL:https://yastaclub.es/event/las-ninas-24-febrero-2023/
LOCATION:Ya’sta Club\, Calle Valverde\, 10\, Madrid\, 28004\, España
CATEGORIES:Drag Queen 👠,LGTB 🏳️‍🌈
ATTACH;FMTTYPE=image/jpeg:https://yastaclub.es/wp-content/uploads/2023/01/328819024_1315835855937224_6074825815292369395_n.jpg
END:VEVENT
END:VCALENDAR