BEGIN:VCALENDAR
VERSION:2.0
PRODID:-//Ya&#039;sta Club - ECPv6.15.20//NONSGML v1.0//EN
CALSCALE:GREGORIAN
METHOD:PUBLISH
X-ORIGINAL-URL:https://yastaclub.es
X-WR-CALDESC:Eventos para Ya&#039;sta Club
REFRESH-INTERVAL;VALUE=DURATION:PT1H
X-Robots-Tag:noindex
X-PUBLISHED-TTL:PT1H
BEGIN:VTIMEZONE
TZID:UTC
BEGIN:STANDARD
TZOFFSETFROM:+0000
TZOFFSETTO:+0000
TZNAME:UTC
DTSTART:20210101T000000
END:STANDARD
END:VTIMEZONE
BEGIN:VEVENT
DTSTART;TZID=UTC:20221230T223000
DTEND;TZID=UTC:20221231T050000
DTSTAMP:20260420T081647
CREATED:20221124T093713Z
LAST-MODIFIED:20221124T093713Z
UID:10000330-1672439400-1672462800@yastaclub.es
SUMMARY:PreNochevieja con Swing Madrid
DESCRIPTION:Llega el mes este mes Diciembre por todo lo alto y nuestro NaviSwing 2022 y lo que para nosotros es una del las mejores fiestas. La ya tradicional Pre-Nochevieja del Ya’sta. \nComenzaremos a las 22.30h como siempre con la mejor música de Dj Swing Madrid y su Coctel Navideño de Swing\, Rock & Roll\, Balboa\, Blues… \nA las 00.00 lo que ya es una tradición nuestras 12 campanadas acompañadas de color\, dulzura y buen rollo para el nuevo año que comienza. Con nuestros «12 Lacasitos» + Nuestro «Pie de la Suerte». Para comenzar con buen pie el 2023 y nos salga a todos bien el Swing Out 😉 \nJaleo\, abrazos\, besos y subidón Musical de Dj Swing Madrid. \nDespués Swing\, simplemente la mejor música Swing\, Rock & Roll y otras músicas del montón 😉 para no dejar de bailar hasta las 05.00h \nEntrada Anticipada.\nCon 1 Copa / 2 Cervezas o Refrescos.\nEn puerta día del evento 20€ \nTodos nuestros Horarios Regulares 2022/23 \nHorarios y precios \n \nBlanco y Negro Studio\nwww.blancoynegrostudio.com\ninfo@blancoynegrostudio.com\nTlf / whatsaap: 687 555 383
URL:https://yastaclub.es/event/prenochevieja-con-swing-madrid-30-12-2022/
LOCATION:Ya’sta Club\, Calle Valverde\, 10\, Madrid\, 28004\, España
CATEGORIES:Swing
ATTACH;FMTTYPE=image/jpeg:https://yastaclub.es/wp-content/uploads/2022/11/WhatsApp-Image-2022-11-21-at-19.32.51.jpeg
END:VEVENT
END:VCALENDAR