BEGIN:VCALENDAR
VERSION:2.0
PRODID:-//Ya&#039;sta Club - ECPv6.15.20//NONSGML v1.0//EN
CALSCALE:GREGORIAN
METHOD:PUBLISH
X-ORIGINAL-URL:https://yastaclub.es
X-WR-CALDESC:Eventos para Ya&#039;sta Club
REFRESH-INTERVAL;VALUE=DURATION:PT1H
X-Robots-Tag:noindex
X-PUBLISHED-TTL:PT1H
BEGIN:VTIMEZONE
TZID:UTC
BEGIN:STANDARD
TZOFFSETFROM:+0000
TZOFFSETTO:+0000
TZNAME:UTC
DTSTART:20210101T000000
END:STANDARD
END:VTIMEZONE
BEGIN:VEVENT
DTSTART;TZID=UTC:20221201T213000
DTEND;TZID=UTC:20221201T235900
DTSTAMP:20260420T182739
CREATED:20221115T072316Z
LAST-MODIFIED:20221117T115209Z
UID:10000325-1669930200-1669939140@yastaclub.es
SUMMARY:VaVaBoom\, por Miss Mambo
DESCRIPTION:La Alegre Miss Mambo y sus maravillosas discípulas tenemos el gran placer de presentaros nuestro nuevo VaVaBoom. \nVaVaBoom es la gala de Burlesque\, Exotica\, Rock’n’Gogo y Music Hall de La Escuela de Seducción y Burlesque\, Miss Mambo. \nEn esta ocasión\, estaremos acompañadas por la gran y polifacética artista y bailarina\, Anna Copa Cabanna\, desde Nueva York. \n¡¡Ven al Va Va Boom!! La noche del Burlesque más divertida del mundo. \nVA VA BOOM. By Miss Mambo. \nJueves\, 1 de Diciembre de 2022. 21:30h \nSala Ya’sta. Calle Valverde\, 10. Madrid. \nEntrada anticipada: 10€ \nEntrada en taquilla: 15€ \nMás información en missmambo.com/vavaboom
URL:https://yastaclub.es/event/vavaboom-por-miss-mambo-01-12-2022/
LOCATION:Ya’sta Club\, Calle Valverde\, 10\, Madrid\, 28004\, España
ATTACH;FMTTYPE=image/png:https://yastaclub.es/wp-content/uploads/2022/11/asd.png
END:VEVENT
END:VCALENDAR