BEGIN:VCALENDAR
VERSION:2.0
PRODID:-//Ya&#039;sta Club - ECPv6.15.20//NONSGML v1.0//EN
CALSCALE:GREGORIAN
METHOD:PUBLISH
X-ORIGINAL-URL:https://yastaclub.es
X-WR-CALDESC:Eventos para Ya&#039;sta Club
REFRESH-INTERVAL;VALUE=DURATION:PT1H
X-Robots-Tag:noindex
X-PUBLISHED-TTL:PT1H
BEGIN:VTIMEZONE
TZID:UTC
BEGIN:STANDARD
TZOFFSETFROM:+0000
TZOFFSETTO:+0000
TZNAME:UTC
DTSTART:20210101T000000
END:STANDARD
END:VTIMEZONE
BEGIN:VEVENT
DTSTART;TZID=UTC:20221007T235500
DTEND;TZID=UTC:20221008T060000
DTSTAMP:20260421T101021
CREATED:20221005T110107Z
LAST-MODIFIED:20221005T110259Z
UID:10000307-1665186900-1665208800@yastaclub.es
SUMMARY:Bearbie Sound (sesión House)
DESCRIPTION:Este viernes tenemos @bearbie_oficial + @bearsound_spain edición HOUSE 🎧 \nCon @myprojectdj y @chechuibizadj en cabina. \nNo hay anticipadas. Sólo en taquilla. ¡Ven pronto para asegurar entrada y las dos copas! \nResto de eventos en yastaclub.es
URL:https://yastaclub.es/event/bearbie-sound-sesion-house-viernes-7-octubre-2022/
LOCATION:Ya’sta Club\, Calle Valverde\, 10\, Madrid\, 28004\, España
ATTACH;FMTTYPE=image/jpeg:https://yastaclub.es/wp-content/uploads/2022/10/310423294_624961019218009_5330669451687163979_n.jpg
END:VEVENT
BEGIN:VEVENT
DTSTART;TZID=UTC:20221007T235500
DTEND;TZID=UTC:20221008T060000
DTSTAMP:20260421T101021
CREATED:20221005T110205Z
LAST-MODIFIED:20221005T110238Z
UID:10000308-1665186900-1665208800@yastaclub.es
SUMMARY:Bearbie Pop
DESCRIPTION:Este viernes tenemos @bearbie_oficial + @bearsound_spain edición POP 🎧 \nCon @agustinquerol_dj y @loloflowersdj en cabina. \nY en el escenario\, a @donnamdnn y @tiffany.lumberjack 👠 \nNo hay anticipadas. Sólo en taquilla. ¡Ven pronto para asegurar entrada y las dos copas! \nResto de eventos en yastaclub.es
URL:https://yastaclub.es/event/bearbie-pop-sabado-8-octubre-2022/
LOCATION:Ya’sta Club\, Calle Valverde\, 10\, Madrid\, 28004\, España
CATEGORIES:Bear 🐻,Drag Queen 👠,LGTB 🏳️‍🌈
ATTACH;FMTTYPE=image/jpeg:https://yastaclub.es/wp-content/uploads/2022/10/310827314_194159446362796_6078043751363463700_n.jpg
END:VEVENT
END:VCALENDAR