BEGIN:VCALENDAR
VERSION:2.0
PRODID:-//Ya&#039;sta Club - ECPv6.15.20//NONSGML v1.0//EN
CALSCALE:GREGORIAN
METHOD:PUBLISH
X-ORIGINAL-URL:https://yastaclub.es
X-WR-CALDESC:Eventos para Ya&#039;sta Club
REFRESH-INTERVAL;VALUE=DURATION:PT1H
X-Robots-Tag:noindex
X-PUBLISHED-TTL:PT1H
BEGIN:VTIMEZONE
TZID:UTC
BEGIN:STANDARD
TZOFFSETFROM:+0000
TZOFFSETTO:+0000
TZNAME:UTC
DTSTART:20210101T000000
END:STANDARD
END:VTIMEZONE
BEGIN:VEVENT
DTSTART;VALUE=DATE:20220630
DTEND;VALUE=DATE:20220702
DTSTAMP:20260422T130335
CREATED:20220605T060407Z
LAST-MODIFIED:20220622T100258Z
UID:10000276-1656568800-1656655199@yastaclub.es
SUMMARY:Supertravesti
DESCRIPTION:30 de Junio #vuelveELOrgullo\nUn recorrido por los últimos 30 años de nuestra Historia \nUna 🎉 transgresora\nfiesta de diversidad\nPor un orgullo #diferente \nDisfruta a lo GRANDE con la primera GRAN cita de este #orgullo\nEn MADRiD🎉🎉 y en @yastaclublgtb \nTendremos divertidas pruebas participa!!!\nPresentadas por\n👑@anomaliamontes\ny\n👑 REINA\n👠👠 La divertida Carrera de Tacones 👠👠 \n🎤 Y los Lip-Sync a Muerte de Drags locales \nPremios en metálico!!\nBases en @suoertravesti_ \n🎧 Con los mejores hitazos de estos 30 años de Vida #lgtbiq🏳️‍🌈\nPinchados como nunca por\n🎧@marianodj1973\nY en directo las performances de nuestras Drags locales\n🔥@bibidelatazzo\n🔥@kalexadeluxe\n🔥@maryconazodrag\n🔥@sugarnelly_ \nInterpretando los temazos de las pregoneras y divas de estos últimos 30 Años!! #monicanaranjo #conchitawurst\n#martasanchez #roser #anatorroja #gloriatrevi\n#rafaellacarra\nY muchas más \nHosted by\n👑REINA 👑\nQue celebra su cumple 🎂 y 25 años de trayectoria en los escenarios como Drag Queen\, promotora y empresaria. \nAcompañame\, participa en esta fiesta interactiva!! \n👉Save The Date!!! 💖\n30 de Junio 🔥
URL:https://yastaclub.es/event/supertravesti/
LOCATION:Ya’sta Club\, Calle Valverde\, 10\, Madrid\, 28004\, España
CATEGORIES:Drag Queen 👠,LGTB 🏳️‍🌈
ATTACH;FMTTYPE=image/jpeg:https://yastaclub.es/wp-content/uploads/2022/06/288869633_760480034971699_504977875182502452_n.jpg
END:VEVENT
END:VCALENDAR