BEGIN:VCALENDAR
VERSION:2.0
PRODID:-//Ya&#039;sta Club - ECPv6.15.20//NONSGML v1.0//EN
CALSCALE:GREGORIAN
METHOD:PUBLISH
X-ORIGINAL-URL:https://yastaclub.es
X-WR-CALDESC:Eventos para Ya&#039;sta Club
REFRESH-INTERVAL;VALUE=DURATION:PT1H
X-Robots-Tag:noindex
X-PUBLISHED-TTL:PT1H
BEGIN:VTIMEZONE
TZID:UTC
BEGIN:STANDARD
TZOFFSETFROM:+0000
TZOFFSETTO:+0000
TZNAME:UTC
DTSTART:20210101T000000
END:STANDARD
END:VTIMEZONE
BEGIN:VEVENT
DTSTART;VALUE=DATE:20220610
DTEND;VALUE=DATE:20220612
DTSTAMP:20260423T033947
CREATED:20220602T124933Z
LAST-MODIFIED:20220602T124933Z
UID:10000274-1654840800-1654927199@yastaclub.es
SUMMARY:The Gathering - Dark alternative party
DESCRIPTION:
URL:https://yastaclub.es/event/the-gathering-dark-alternative-party-3/
LOCATION:Ya’sta Club\, Calle Valverde\, 10\, Madrid\, 28004\, España
CATEGORIES:Dark
ATTACH;FMTTYPE=image/jpeg:https://yastaclub.es/wp-content/uploads/2022/06/284998898_549617190115702_6308116285543219473_n.mp4_snapshot_00.01_2022.06.01_08.41.10.jpg
END:VEVENT
END:VCALENDAR