BEGIN:VCALENDAR
VERSION:2.0
PRODID:-//Ya&#039;sta Club - ECPv6.15.20//NONSGML v1.0//EN
CALSCALE:GREGORIAN
METHOD:PUBLISH
X-WR-CALNAME:Ya&#039;sta Club
X-ORIGINAL-URL:https://yastaclub.es
X-WR-CALDESC:Eventos para Ya&#039;sta Club
REFRESH-INTERVAL;VALUE=DURATION:PT1H
X-Robots-Tag:noindex
X-PUBLISHED-TTL:PT1H
BEGIN:VTIMEZONE
TZID:UTC
BEGIN:STANDARD
TZOFFSETFROM:+0000
TZOFFSETTO:+0000
TZNAME:UTC
DTSTART:20210101T000000
END:STANDARD
END:VTIMEZONE
BEGIN:VEVENT
DTSTART;VALUE=DATE:20220513
DTEND;VALUE=DATE:20220515
DTSTAMP:20260422T200858
CREATED:20220502T170408Z
LAST-MODIFIED:20220502T170408Z
UID:10000257-1652421600-1652507999@yastaclub.es
SUMMARY:The Gathering - Dark alternative Party
DESCRIPTION:
URL:https://yastaclub.es/event/the-gathering-dark-alternative-party-2/
LOCATION:Ya’sta Club\, Calle Valverde\, 10\, Madrid\, 28004\, España
CATEGORIES:Dark,Techno
ATTACH;FMTTYPE=image/jpeg:https://yastaclub.es/wp-content/uploads/2022/05/279449868_144521298088505_4758818033315368126_n.jpg
END:VEVENT
END:VCALENDAR